BEGIN:VCALENDAR
VERSION:2.0
PRODID:-//🩵 denkerprojekte.de - ECPv6.8.2.1//NONSGML v1.0//EN
CALSCALE:GREGORIAN
METHOD:PUBLISH
X-ORIGINAL-URL:https://denkerprojekte.de
X-WR-CALDESC:Veranstaltungen für 🩵 denkerprojekte.de
REFRESH-INTERVAL;VALUE=DURATION:PT1H
X-Robots-Tag:noindex
X-PUBLISHED-TTL:PT1H
BEGIN:VTIMEZONE
TZID:Europe/Berlin
BEGIN:DAYLIGHT
TZOFFSETFROM:+0100
TZOFFSETTO:+0200
TZNAME:CEST
DTSTART:20240331T010000
END:DAYLIGHT
BEGIN:STANDARD
TZOFFSETFROM:+0200
TZOFFSETTO:+0100
TZNAME:CET
DTSTART:20241027T010000
END:STANDARD
END:VTIMEZONE
BEGIN:VEVENT
DTSTART;TZID=Europe/Berlin:20241211T080000
DTEND;TZID=Europe/Berlin:20241211T170000
DTSTAMP:20260421T141009
CREATED:20241210T162627Z
LAST-MODIFIED:20241210T162627Z
UID:1110-1733904000-1733936400@denkerprojekte.de
SUMMARY:Webinar
DESCRIPTION:
URL:https://denkerprojekte.de/event/webinar/
LOCATION:Denkerprojekte Hub\, Ernst-Reuter-Str. 22\, Bergisch Gladbach\, NRW\, 51427\, Germany
ORGANIZER;CN="Denkerprojekte":MAILTO:hello@denkerprojekte.de
END:VEVENT
END:VCALENDAR